BEGIN:VCALENDAR
VERSION:2.0
PRODID:-// - ECPv6.15.20//NONSGML v1.0//EN
CALSCALE:GREGORIAN
METHOD:PUBLISH
X-ORIGINAL-URL:https://repaircafestourbridge.org.uk
X-WR-CALDESC:Events for 
REFRESH-INTERVAL;VALUE=DURATION:PT1H
X-Robots-Tag:noindex
X-PUBLISHED-TTL:PT1H
BEGIN:VTIMEZONE
TZID:Europe/London
BEGIN:DAYLIGHT
TZOFFSETFROM:+0000
TZOFFSETTO:+0100
TZNAME:BST
DTSTART:20250330T010000
END:DAYLIGHT
BEGIN:STANDARD
TZOFFSETFROM:+0100
TZOFFSETTO:+0000
TZNAME:GMT
DTSTART:20251026T010000
END:STANDARD
BEGIN:DAYLIGHT
TZOFFSETFROM:+0000
TZOFFSETTO:+0100
TZNAME:BST
DTSTART:20260329T010000
END:DAYLIGHT
BEGIN:STANDARD
TZOFFSETFROM:+0100
TZOFFSETTO:+0000
TZNAME:GMT
DTSTART:20261025T010000
END:STANDARD
BEGIN:DAYLIGHT
TZOFFSETFROM:+0000
TZOFFSETTO:+0100
TZNAME:BST
DTSTART:20270328T010000
END:DAYLIGHT
BEGIN:STANDARD
TZOFFSETFROM:+0100
TZOFFSETTO:+0000
TZNAME:GMT
DTSTART:20271031T010000
END:STANDARD
END:VTIMEZONE
BEGIN:VEVENT
DTSTART;TZID=Europe/London:20260411T100000
DTEND;TZID=Europe/London:20260411T140000
DTSTAMP:20260419T151755
CREATED:20260120T164433Z
LAST-MODIFIED:20260120T164433Z
UID:364-1775901600-1775916000@repaircafestourbridge.org.uk
SUMMARY:Repair Cafe - Open
DESCRIPTION:
URL:https://repaircafestourbridge.org.uk/event/repair-cafe-open-2/
END:VEVENT
BEGIN:VEVENT
DTSTART;TZID=Europe/London:20260314T100000
DTEND;TZID=Europe/London:20260314T140000
DTSTAMP:20260419T151755
CREATED:20260120T163812Z
LAST-MODIFIED:20260120T164552Z
UID:362-1773482400-1773496800@repaircafestourbridge.org.uk
SUMMARY:Repair Cafe - Open
DESCRIPTION:
URL:https://repaircafestourbridge.org.uk/event/repair-cafe-is-repairing-today/
END:VEVENT
BEGIN:VEVENT
DTSTART;TZID=Europe/London:20260214T100000
DTEND;TZID=Europe/London:20260214T140000
DTSTAMP:20260419T151755
CREATED:20260120T163345Z
LAST-MODIFIED:20260120T172453Z
UID:360-1771063200-1771077600@repaircafestourbridge.org.uk
SUMMARY:Repair Cafe - Open
DESCRIPTION:
URL:https://repaircafestourbridge.org.uk/event/repair-cafe-open/
END:VEVENT
BEGIN:VEVENT
DTSTART;TZID=Europe/London:20260110T100000
DTEND;TZID=Europe/London:20260110T140000
DTSTAMP:20260419T151755
CREATED:20260120T173126Z
LAST-MODIFIED:20260120T173126Z
UID:388-1768039200-1768053600@repaircafestourbridge.org.uk
SUMMARY:Repair Cafe - Open
DESCRIPTION:
URL:https://repaircafestourbridge.org.uk/event/repair-cafe-open-7/
END:VEVENT
END:VCALENDAR